BEGIN:VCALENDAR
VERSION:2.0
PRODID:-//Vzdělávací centrum - ECPv6.15.18//NONSGML v1.0//EN
CALSCALE:GREGORIAN
METHOD:PUBLISH
X-WR-CALNAME:Vzdělávací centrum
X-ORIGINAL-URL:https://eufrosine.cz
X-WR-CALDESC:Akce na Vzdělávací centrum
REFRESH-INTERVAL;VALUE=DURATION:PT1H
X-Robots-Tag:noindex
X-PUBLISHED-TTL:PT1H
BEGIN:VTIMEZONE
TZID:Europe/Prague
BEGIN:DAYLIGHT
TZOFFSETFROM:+0100
TZOFFSETTO:+0200
TZNAME:CEST
DTSTART:20230326T010000
END:DAYLIGHT
BEGIN:STANDARD
TZOFFSETFROM:+0200
TZOFFSETTO:+0100
TZNAME:CET
DTSTART:20231029T010000
END:STANDARD
BEGIN:DAYLIGHT
TZOFFSETFROM:+0100
TZOFFSETTO:+0200
TZNAME:CEST
DTSTART:20240331T010000
END:DAYLIGHT
BEGIN:STANDARD
TZOFFSETFROM:+0200
TZOFFSETTO:+0100
TZNAME:CET
DTSTART:20241027T010000
END:STANDARD
BEGIN:DAYLIGHT
TZOFFSETFROM:+0100
TZOFFSETTO:+0200
TZNAME:CEST
DTSTART:20250330T010000
END:DAYLIGHT
BEGIN:STANDARD
TZOFFSETFROM:+0200
TZOFFSETTO:+0100
TZNAME:CET
DTSTART:20251026T010000
END:STANDARD
END:VTIMEZONE
BEGIN:VEVENT
DTSTART;TZID=Europe/Prague:20241127T180000
DTEND;TZID=Europe/Prague:20241127T200000
DTSTAMP:20260423T004915
CREATED:20240906T191159Z
LAST-MODIFIED:20241007T202803Z
UID:3378-1732730400-1732737600@eufrosine.cz
SUMMARY:K jednotě přes rozmanitost  středa 27. 11. v 18 h
DESCRIPTION:Základní informace:\n\nKdy: Středa\, 27. listopadu 2024 18:00\nKde: Nová Akropolis\, Purkyňova 12\, Plzeň\nVstupné dobrovolné\n\nPřednáška a filozofický dialog u příležitosti Světového dne filozofie\nTéma:\n\nZveme vás na filozofický dialog s mottem vedoucím k nezbytnosti hledání jednoty místo rozdělování. Kde všude se setkáme s ne-jednotou\, s diferenciací\, se zdůrazňováním rozdílností? Sami v sobě\, ve společnosti lidí\, v našich činech i v představách o světě.\nČlověk: Zeptejme se\, jestli jsme vždy osobností celistvou nebo jsme někdy roztříštění díky tomu\, že naše mysl\, naše srdce\, naše tělo touží po různých věcech? Zjistíme\, že možná více času se cítíme ne jako lidská bytost se smyslem života\, ale jednáme dle vnějších rolí a úloh\, zapomínáme na člověka v sobě.\nSpolečnost: Představme si\, že každý z nás je dílkem mozaiky\, a uvidíme\, že máme určité charakteristické vlastnosti\, schopnosti\, potenciály\, temperament a sklony\, které se liší. Možná se naše osobnost nemusí líbit všem\, ale dokážeme-li najít své místo tak\, abychom spolu s ostatními vytvářeli harmonický celek\, probudí se velké potenciály: spolupráce\, soužití\, pochopení a láska.\nSvět: Žijeme v době\, která přináší neuvěřitelné množství a rozmanitost informací a poznatků\, podnětů či impulsů. Není snadné si z nich vytvořit představu o světě a obraz doby\, ve které žijeme. Jak se v tom máme orientovat?Na akci si raději rezervujte místo\, vstup je volný.
URL:https://eufrosine.cz/event/k-jednote-pres-rozmanitost-streda-27-11-v-18-h/
LOCATION:Vzdělávací centrum Eufrosine\, Purkyňova 592/12\, Plzeň 3-Jižní Předměstí\, Plzeňský\, 30100\, Česká republika
CATEGORIES:Den Filozofie,Přednášky
ATTACH;FMTTYPE=image/jpeg:https://eufrosine.cz/wp-content/uploads/2024/09/01-SDF-K-jednote.jpg
ORGANIZER;CN="Nov%C3%A1 Akropolis Plze%C5%88":MAILTO:plzen@akropolis.cz
END:VEVENT
BEGIN:VEVENT
DTSTART;TZID=Europe/Prague:20241111T180000
DTEND;TZID=Europe/Prague:20241111T200000
DTSTAMP:20260423T004915
CREATED:20240822T122301Z
LAST-MODIFIED:20241007T202639Z
UID:3347-1731348000-1731355200@eufrosine.cz
SUMMARY:Odvaha vybrat si: Poučení z „Matrixu“ pondělí 11. 11. v 18 h
DESCRIPTION:Základní informace:\n\nKdy: Pondělí\, 11. listopadu 2024 18:00\nKde: Nová Akropolis\, Purkyňova 12\, Plzeň\nVstupné dobrovolné\n\nCafé Symposion – akce u příležitosti Světového dne filozofie\nTémata:\n\nMatrix jako novodobé podobenství o jeskyni\, které ve svém díle popisuje Platon\, nás staví před rozhodnutí: odvážit se poznat nepříjemnou pravdu nebo zůstat v pohodlném zajetí falešných iluzí? A co si vybereme my?\n\n\nPovídání kolem stolu \nNa akci si raději rezervujte místo\, vstup je volný.
URL:https://eufrosine.cz/event/odvaha-vybrat-si-pouceni-z-matrixu-pondeli-11-11-v-18-h/
LOCATION:Vzdělávací centrum Eufrosine\, Purkyňova 592/12\, Plzeň 3-Jižní Předměstí\, Plzeňský\, 30100\, Česká republika
CATEGORIES:Den Filozofie,Přednášky
ATTACH;FMTTYPE=image/jpeg:https://eufrosine.cz/wp-content/uploads/2024/08/Odvaha-vybrat.jpg
ORGANIZER;CN="Nov%C3%A1 Akropolis Plze%C5%88":MAILTO:plzen@akropolis.cz
END:VEVENT
END:VCALENDAR