BEGIN:VCALENDAR
VERSION:2.0
PRODID:-//Vzdělávací centrum - ECPv6.15.18//NONSGML v1.0//EN
CALSCALE:GREGORIAN
METHOD:PUBLISH
X-WR-CALNAME:Vzdělávací centrum
X-ORIGINAL-URL:https://eufrosine.cz
X-WR-CALDESC:Akce na Vzdělávací centrum
REFRESH-INTERVAL;VALUE=DURATION:PT1H
X-Robots-Tag:noindex
X-PUBLISHED-TTL:PT1H
BEGIN:VTIMEZONE
TZID:Europe/Prague
BEGIN:DAYLIGHT
TZOFFSETFROM:+0100
TZOFFSETTO:+0200
TZNAME:CEST
DTSTART:20250330T010000
END:DAYLIGHT
BEGIN:STANDARD
TZOFFSETFROM:+0200
TZOFFSETTO:+0100
TZNAME:CET
DTSTART:20251026T010000
END:STANDARD
BEGIN:DAYLIGHT
TZOFFSETFROM:+0100
TZOFFSETTO:+0200
TZNAME:CEST
DTSTART:20260329T010000
END:DAYLIGHT
BEGIN:STANDARD
TZOFFSETFROM:+0200
TZOFFSETTO:+0100
TZNAME:CET
DTSTART:20261025T010000
END:STANDARD
BEGIN:DAYLIGHT
TZOFFSETFROM:+0100
TZOFFSETTO:+0200
TZNAME:CEST
DTSTART:20270328T010000
END:DAYLIGHT
BEGIN:STANDARD
TZOFFSETFROM:+0200
TZOFFSETTO:+0100
TZNAME:CET
DTSTART:20271031T010000
END:STANDARD
END:VTIMEZONE
BEGIN:VEVENT
DTSTART;TZID=Europe/Prague:20260421T173000
DTEND;TZID=Europe/Prague:20260428T200000
DTSTAMP:20260422T023102
CREATED:20241208T234101Z
LAST-MODIFIED:20260310T215217Z
UID:3469-1776792600-1777406400@eufrosine.cz
SUMMARY:Stoicismus v moderním světě? Proč ne! kurz 21. 4. od 17:30 h6 výukových hodin po 45min.
DESCRIPTION:Základní informace:\n2x úterý 21. a 28. 4. od 17:30 do 20 h\nKurz bude probíhat ve dvou blocích po 3 výukových hodinách.\nRozsah kurzu: celkem 6 výukových hodin\, každá v délce trvání 45 minut\nKde: Nová Akropolis\, Purkyňova 12\, Plzeň\nCena kurzu: 950 Kč (studenti a důchodci 850 Kč)\nInstruktor kurzu: Martina Flaitingrová\nMinimální počet účastníků v kurzu jsou 3 osoby\, maximální je 10 osob.\n \nPŘIHLÁSIT SE\n\n\nStoicismus v moderním světě? Proč by ne! \n\nMá filozofie starověkého Řecka v našem uspěchaném a technologicky pokročilém světě co nabídnout? Ano! Stoicismus není jen prach z minulosti\, ale nástroj\, který může každý z nás využít k osobnímu rozvoji a k lepšímu zvládání každodenních výzev. \nProč stoicismus? Učí nás\, jak najít klid v duši a štěstí\, které nespočívá ve vnějších okolnostech\, ale ve vnitřní svobodě a kontrole nad vlastním životem. A není to právě to\, co dnes tak zoufale hledáme? \nCo Vás v kurzu čeká?\nBěhem dvou večerů prozkoumáme životní lekce a praktická cvičení inspirovaná myšlenkami slavných stoiků – Epiktéta\, Senecy a Marca Aurelia. Čeká nás: \n\nEudaimonia: Najděte štěstí nezávislé na vnějších okolnostech.\nKontrola nad životem: Jak na to?\nZvládání náročných situací: Techniky\, které můžete použít hned.\nPráce s emocemi: Naučte se je poznávat a správně na ně reagovat.\nSvoboda a čas: Co nás o ně připravuje a jak je efektivně využívat.\nRady pro soužití a spolupráci: Protože společně můžeme víc.\n\nPro koho je kurz určen?\nKurz je otevřený všem\, bez ohledu na věk nebo předchozí zkušenosti se stoicismem. Ať už jste úplní nováčci nebo máte o stoicismu již nějaké představy\, zaručeně si odnesete nové nápady\, jak zlepšit svůj život. \nMyslíte si\, že stoicismus může být odpovědí na některé z vašich současných výzev? Přihlaste se.\nTěšíme se na společné objevování\, jak stoicismus může obohatit každodenní život. \n\n	\n		\n	Reference ke kurzům: \n„Z kurzu jsem nadšený rozšířil mi pohled na okolní svět i sebe. Přidalo mi to klidu do života a odstranilo stres.“  Karel P. \n„Kurz rétoriky splnil moje očekávání. Paní Flaitingrová má mnoho zkušeností a znalostí\, aby tě posunula dál. Určitě každému doporučuji.“ Daniel N. \n„Skvělý kurz\,vše jasné a srozumitelně. Empatická lektorka pracovala s laskavým předáním nových dovedností. Teorie i praxe v jednom - na jedničku. Děkuji a těším se na pokračující kurz.😉“  Marketa K. \n„Inspirativní\, poučné\, těším se na další seminář\, kurz.“ Dana K. \n\n	\n\n \n\n\n\nMáte zájem o tuto akci?\nPŘIHLASTE SE\nJméno *Email *Telefon *Zpráva *Zajímá mne tato akceEmailOdeslat
URL:https://eufrosine.cz/event/stoikem-v-modernim-svete-proc-ne-kurz-18-3-od-1730-h6-vyukovych-hodin-po-45min/
LOCATION:Vzdělávací centrum Eufrosine\, Purkyňova 592/12\, Plzeň 3-Jižní Předměstí\, Plzeňský\, 30100\, Česká republika
CATEGORIES:Krátké kurzy
ATTACH;FMTTYPE=image/jpeg:https://eufrosine.cz/wp-content/uploads/2024/02/stoikove3_web.jpg
ORGANIZER;CN="Nov%C3%A1 Akropolis Plze%C5%88":MAILTO:plzen@akropolis.cz
END:VEVENT
END:VCALENDAR